BEGIN:VCALENDAR
VERSION:2.0
PRODID:-//Nexus ITC - ECPv6.15.20//NONSGML v1.0//EN
CALSCALE:GREGORIAN
METHOD:PUBLISH
X-WR-CALNAME:Nexus ITC
X-ORIGINAL-URL:https://nexusitc.net
X-WR-CALDESC:Events for Nexus ITC
REFRESH-INTERVAL;VALUE=DURATION:PT1H
X-Robots-Tag:noindex
X-PUBLISHED-TTL:PT1H
BEGIN:VTIMEZONE
TZID:America/Denver
BEGIN:DAYLIGHT
TZOFFSETFROM:-0700
TZOFFSETTO:-0600
TZNAME:MDT
DTSTART:20250309T090000
END:DAYLIGHT
BEGIN:STANDARD
TZOFFSETFROM:-0600
TZOFFSETTO:-0700
TZNAME:MST
DTSTART:20251102T080000
END:STANDARD
BEGIN:DAYLIGHT
TZOFFSETFROM:-0700
TZOFFSETTO:-0600
TZNAME:MDT
DTSTART:20260308T090000
END:DAYLIGHT
BEGIN:STANDARD
TZOFFSETFROM:-0600
TZOFFSETTO:-0700
TZNAME:MST
DTSTART:20261101T080000
END:STANDARD
BEGIN:DAYLIGHT
TZOFFSETFROM:-0700
TZOFFSETTO:-0600
TZNAME:MDT
DTSTART:20270314T090000
END:DAYLIGHT
BEGIN:STANDARD
TZOFFSETFROM:-0600
TZOFFSETTO:-0700
TZNAME:MST
DTSTART:20271107T080000
END:STANDARD
END:VTIMEZONE
BEGIN:VEVENT
DTSTART;TZID=America/Denver:20260617T113000
DTEND;TZID=America/Denver:20260617T130000
DTSTAMP:20260424T023323
CREATED:20260421T202812Z
LAST-MODIFIED:20260423T005211Z
UID:12765-1781695800-1781701200@nexusitc.net
SUMMARY:Customer Lunch & Learn: Cybersecurity
DESCRIPTION:
URL:https://nexusitc.net/event/customer-lunch-learn-cybersecurity/
LOCATION:Nexus IT HQ\, 343 W 400 S\, Suite B\, Salt Lake City\, UT\, 84101\, United States
END:VEVENT
BEGIN:VEVENT
DTSTART;TZID=America/Denver:20260716T150000
DTEND;TZID=America/Denver:20260716T173000
DTSTAMP:20260424T023323
CREATED:20260421T203310Z
LAST-MODIFIED:20260423T005028Z
UID:12767-1784214000-1784223000@nexusitc.net
SUMMARY:Leadership Masterclass with Earl Foote
DESCRIPTION:
URL:https://nexusitc.net/event/masterclass-with-earl-foote/
LOCATION:Kiln SLC\, 26 S Rio Grande St\, Salt Lake City\, UT\, 84101\, United States
END:VEVENT
END:VCALENDAR