BEGIN:VCALENDAR
VERSION:2.0
PRODID:-//Nexus ITC - ECPv6.15.20//NONSGML v1.0//EN
CALSCALE:GREGORIAN
METHOD:PUBLISH
X-ORIGINAL-URL:https://nexusitc.net
X-WR-CALDESC:Events for Nexus ITC
REFRESH-INTERVAL;VALUE=DURATION:PT1H
X-Robots-Tag:noindex
X-PUBLISHED-TTL:PT1H
BEGIN:VTIMEZONE
TZID:America/Denver
BEGIN:DAYLIGHT
TZOFFSETFROM:-0700
TZOFFSETTO:-0600
TZNAME:MDT
DTSTART:20250309T090000
END:DAYLIGHT
BEGIN:STANDARD
TZOFFSETFROM:-0600
TZOFFSETTO:-0700
TZNAME:MST
DTSTART:20251102T080000
END:STANDARD
BEGIN:DAYLIGHT
TZOFFSETFROM:-0700
TZOFFSETTO:-0600
TZNAME:MDT
DTSTART:20260308T090000
END:DAYLIGHT
BEGIN:STANDARD
TZOFFSETFROM:-0600
TZOFFSETTO:-0700
TZNAME:MST
DTSTART:20261101T080000
END:STANDARD
BEGIN:DAYLIGHT
TZOFFSETFROM:-0700
TZOFFSETTO:-0600
TZNAME:MDT
DTSTART:20270314T090000
END:DAYLIGHT
BEGIN:STANDARD
TZOFFSETFROM:-0600
TZOFFSETTO:-0700
TZNAME:MST
DTSTART:20271107T080000
END:STANDARD
END:VTIMEZONE
BEGIN:VEVENT
DTSTART;TZID=America/Denver:20260508T170000
DTEND;TZID=America/Denver:20260508T200000
DTSTAMP:20260423T170618
CREATED:20260421T202521Z
LAST-MODIFIED:20260423T005329Z
UID:12762-1778259600-1778270400@nexusitc.net
SUMMARY:Brims Bourbon and Business
DESCRIPTION:
URL:https://nexusitc.net/event/brims-bourbon-and-business/
LOCATION:Nexus IT HQ\, 343 W 400 S\, Suite B\, Salt Lake City\, UT\, 84101\, United States
END:VEVENT
END:VCALENDAR